BEGIN:VCALENDAR
VERSION:2.0
PRODID:-//wp-events-plugin.com//7.2.2.1//EN
TZID:Europe/Berlin
X-WR-TIMEZONE:Europe/Berlin
BEGIN:VEVENT
UID:55@kulturwerkstatt-gommern.de
DTSTART;TZID=Europe/Berlin:20221015T000000
DTEND;TZID=Europe/Berlin:20221112T000000
DTSTAMP:20220929T083956Z
URL:https://www.kulturwerkstatt-gommern.de/events/808/
SUMMARY:Licht und Schatten - Fotografien von Rolf Winkler - "Kleine Galerie
 " der KULTURWERKSTATT Gommern e.V. - 15 Okt. 22 00:00
DESCRIPTION:Er durchstreift den Alltag mit der Kamera in der Hand\,\n\nkehr
 t zurück mit einem Bild im Kopf\,\n\nspielt mit hell und dunkel.\n\nSein 
 Bild überlässt er dem Betrachter.\nLicht und Schatten\nFotografie\nRolf 
 Winkler\nVernissage:    15. Oktober 2022\, 14.00 Uhr\n\nUhrzeit:   
        14:00 Uhr\n\nLaudatio:        Dorothea Iser \n\nViolin
 e Sinhá  Winkler\n\nAusstellungsbesichtigung in der Kulturwerkstatt Gomm
 ern\n\nvom 15. Oktober bis 12. November 2022\n\nMontag bis Donnerstag:  
       14:00 bis 16:00 Uhr\,\n\njeden ersten Sonntag im Monat 15:00 bi
 s 17:00 Uhr\n\nWalther-Rathenau-Straße 19\, 39245 Gommern\n\n
CATEGORIES:Ausstellung
LOCATION:"Kleine Galerie" der KULTURWERKSTATT Gommern e.V.\, Walther-Rathen
 au-Str. 19\, Gommern\, Sachsen-Anhalt\, 39245\, Deutschland
GEO:52.0711713;11.832034600000043
X-APPLE-STRUCTURED-LOCATION;VALUE=URI;X-ADDRESS=Walther-Rathenau-Str. 19\, 
 Gommern\, Sachsen-Anhalt\, 39245\, Deutschland;X-APPLE-RADIUS=100;X-TITLE=
 \"Kleine Galerie\" der KULTURWERKSTATT Gommern e.V.:geo:52.0711713,11.8320
 34600000043
END:VEVENT
BEGIN:VTIMEZONE
TZID:Europe/Berlin
X-LIC-LOCATION:Europe/Berlin
BEGIN:DAYLIGHT
DTSTART:20220327T030000
TZOFFSETFROM:+0100
TZOFFSETTO:+0200
TZNAME:CEST
END:DAYLIGHT
BEGIN:STANDARD
DTSTART:20221030T020000
TZOFFSETFROM:+0200
TZOFFSETTO:+0100
TZNAME:CET
END:STANDARD
END:VTIMEZONE
END:VCALENDAR