BEGIN:VCALENDAR
VERSION:2.0
PRODID:-//wp-events-plugin.com//7.2.2.1//EN
TZID:Europe/Berlin
X-WR-TIMEZONE:Europe/Berlin
BEGIN:VEVENT
UID:67@kulturwerkstatt-gommern.de
DTSTART;TZID=Europe/Berlin:20250118T000000
DTEND;TZID=Europe/Berlin:20250328T000000
DTSTAMP:20250120T065334Z
URL:https://www.kulturwerkstatt-gommern.de/events/art-love-von-tatjana-hew
 elt-und-jens-weber/
SUMMARY:"Art - Love" von Tatjana Hewelt und Jens Weber -  - 18 Jan. 25 00:0
 0
DESCRIPTION:„Kunst verbindet“ −das Motto hatten Tatjana Hewelt und Je
 ns Weber für ihre Ausstellung gewählt. \n\nDazu noch einige Impressionen
 .\n\n  \n\n&nbsp\;\n\n&nbsp\;\n\n&nbsp\;\n\n&nbsp\;\n\n&nbsp\;\n\nVernissa
 ge am 18.01.2025\n\nin der kleinen Galerie „Art - Love“ von Tatjana He
 welt und Jens Weber\n\nPatchwork von Tatjana Hewelt:\n\nDer Fantasie sind 
 keine Grenzen gesetzt. Ob bunte\, geometrische Formen oder dekorative Verz
 ierungen: Patchwork erlaubt eine große Bandbreite an Gestaltungsmöglichk
 eiten in ihrer magischen Welt.\n\nAquarelle von Jens Weber:\n\nEs gibt kei
 n Richtig oder Falsch im Umgang mit Aquarellfarben. Die schönsten Aquarel
 le entstehen oft durch spontan improvisierte Farbaufträge. Das eröffnet 
 dem Künstler ein ungeheures Potential.\n\nLassen Sie sich inspirieren von
  der Vielfalt der Ideen!\n\n  
CATEGORIES:Ausstellung
END:VEVENT
BEGIN:VTIMEZONE
TZID:Europe/Berlin
X-LIC-LOCATION:Europe/Berlin
BEGIN:STANDARD
DTSTART:20241027T020000
TZOFFSETFROM:+0200
TZOFFSETTO:+0100
TZNAME:CET
END:STANDARD
END:VTIMEZONE
END:VCALENDAR