BEGIN:VCALENDAR
VERSION:2.0
PRODID:-//wp-events-plugin.com//7.2.2.1//EN
TZID:Europe/Berlin
X-WR-TIMEZONE:Europe/Berlin
BEGIN:VEVENT
UID:47@kulturwerkstatt-gommern.de
DTSTART;TZID=Europe/Berlin:20210413T000000
DTEND;TZID=Europe/Berlin:20210704T000000
DTSTAMP:20210706T181521Z
URL:https://www.kulturwerkstatt-gommern.de/events/ein-dankeschoen-an-alle-
 die-der-kulturwerkstatt-auch-weiterhin-die-treue-halten/
SUMMARY:Ein Dankeschön an alle\, die der Kulturwerkstatt auch weiterhin di
 e Treue halten. - "Kleine Galerie" der KULTURWERKSTATT Gommern e.V. - 13 A
 pr. 21 00:00
DESCRIPTION:Die Corona-Pandemie verhindert leider weiterhin alle weiteren A
 ktivitäten der Kulturwerkstatt und immer noch besteht keine Aussicht auf 
 Wiederaufnahme des Kulturbetriebes. Damit gibt es auch keine Aussicht\, we
 itere Ausstellungen in den Räumen der Kulturwerkstatt zu zeigen.\n\nSeit 
 Herbst letzten Jahres befindet sich die Ausstellung „Querbeet“\, gesta
 ltet von den Mitgliedern der Kulturwerkstatt\, im Dornröschenschlaf. Die 
 Ausstellung wird ohne\, dass sie jemals richtig eröffnet wurde\, nicht me
 hr gezeigt werden. Sobald der Kulturbetrieb wieder möglich sein wird\, wa
 rten bereits neue interessante Ausstellungen darauf\, sich der Öffentlich
 keit zu präsentieren\, da bis zum Jahresende die Räumlichkeiten bereits 
 verplant sind.\n\nIn der Walter-Rathenau-Straße\, in der auch die Kulturw
 erkstatt ihr Domizil hat\, befindet sich ein Magnolienbaum\, der jedes Jah
 r im Frühjahr in voller Blütenpracht steht. Geplant war\, dass zur Blüt
 ezeit die Künstler der Kulturwerkstatt dort ein Straßenfest veranstalten
  und gemeinsam mit dem Maler Christoph Bouet den Baum malen. Leider konnte
  auch dieses Vorhaben nicht durchgeführt werden.\n\nDoch die Kulturschaff
 enden der Kulturwerkstatt wollen sich von der Pandemie nicht entmutigen la
 ssen und gehen auch weiterhin ihren Hobbys nach\, wenn auch zurzeit allein
 e im „stillen Kämmerlein“. Sie malen\, töpfern\, stricken\, sticken 
 und klöppeln\, immer in der Hoffnung\, dass sie sich eines Tages wieder v
 or Ort treffen können und gemeinsame Projekte durchführen können.\n\n
 „Die Hoffnung stirbt zuletzt“\, so lautet ein Sprichwort. Denn wer kei
 ne Hoffnung mehr sieht\, der hat bereits verloren.\n\nDie Mitglieder der K
 ulturwerkstatt möchten sich an dieser Stelle bei allen Freunden des Kultu
 rvereins und allen Mitgliedern bedanken\, die trotz Corona und den damit v
 erbundenen Einschränkungen weiterhin ihrer Kulturwerkstatt die Treue halt
 en.\n\nDie Vorstandsvorsitzende Brunhilde Schmehl.\n\n&nbsp\;
CATEGORIES:Ausstellung
LOCATION:"Kleine Galerie" der KULTURWERKSTATT Gommern e.V.\, Walther-Rathen
 au-Str. 19\, Gommern\, Sachsen-Anhalt\, 39245\, Deutschland
GEO:52.0711713;11.832034600000043
X-APPLE-STRUCTURED-LOCATION;VALUE=URI;X-ADDRESS=Walther-Rathenau-Str. 19\, 
 Gommern\, Sachsen-Anhalt\, 39245\, Deutschland;X-APPLE-RADIUS=100;X-TITLE=
 \"Kleine Galerie\" der KULTURWERKSTATT Gommern e.V.:geo:52.0711713,11.8320
 34600000043
END:VEVENT
BEGIN:VTIMEZONE
TZID:Europe/Berlin
X-LIC-LOCATION:Europe/Berlin
BEGIN:DAYLIGHT
DTSTART:20210328T030000
TZOFFSETFROM:+0100
TZOFFSETTO:+0200
TZNAME:CEST
END:DAYLIGHT
END:VTIMEZONE
END:VCALENDAR