BEGIN:VCALENDAR
VERSION:2.0
PRODID:-//wp-events-plugin.com//7.2.2.1//EN
TZID:Europe/Berlin
X-WR-TIMEZONE:Europe/Berlin
BEGIN:VEVENT
UID:32@kulturwerkstatt-gommern.de
DTSTART;TZID=Europe/Berlin;VALUE=DATE:20140906
DTEND;TZID=Europe/Berlin;VALUE=DATE:20141102
DTSTAMP:20140705T170329Z
URL:https://www.kulturwerkstatt-gommern.de/events/farbe-und-form/
SUMMARY:Farbe und Form - "Kleine Galerie" der KULTURWERKSTATT Gommern e.V. 
 - 6 Sep. 14 14:00
DESCRIPTION:Zu unserer 4. Ausstellung werden Bilder in Acryl und Aquarell v
 on Frau Waag aus Magdeburg gepaart mit Keramik von Frau Speerschneider aus
  Schönebeck gezeigt\, gern laden wir sie zu einer Besichtigung der Ausste
 llung ein.
CATEGORIES:Ausstellung
LOCATION:"Kleine Galerie" der KULTURWERKSTATT Gommern e.V.\, Walther-Rathen
 au-Str. 19\, Gommern\, Sachsen-Anhalt\, 39245\, Deutschland
GEO:52.0711713;11.832034600000043
X-APPLE-STRUCTURED-LOCATION;VALUE=URI;X-ADDRESS=Walther-Rathenau-Str. 19\, 
 Gommern\, Sachsen-Anhalt\, 39245\, Deutschland;X-APPLE-RADIUS=100;X-TITLE=
 \"Kleine Galerie\" der KULTURWERKSTATT Gommern e.V.:geo:52.0711713,11.8320
 34600000043
END:VEVENT
BEGIN:VTIMEZONE
TZID:Europe/Berlin
X-LIC-LOCATION:Europe/Berlin
BEGIN:DAYLIGHT
DTSTART:20140330T030000
TZOFFSETFROM:+0100
TZOFFSETTO:+0200
TZNAME:CEST
END:DAYLIGHT
BEGIN:STANDARD
DTSTART:20141026T020000
TZOFFSETFROM:+0200
TZOFFSETTO:+0100
TZNAME:CET
END:STANDARD
END:VTIMEZONE
END:VCALENDAR