BEGIN:VCALENDAR
VERSION:2.0
PRODID:-//wp-events-plugin.com//7.2.2.1//EN
TZID:Europe/Berlin
X-WR-TIMEZONE:Europe/Berlin
BEGIN:VEVENT
UID:65@kulturwerkstatt-gommern.de
DTSTART;TZID=Europe/Berlin:20240706T000000
DTEND;TZID=Europe/Berlin:20240928T000000
DTSTAMP:20240717T062625Z
URL:https://www.kulturwerkstatt-gommern.de/events/fotografien-von-christop
 h-schraeder/
SUMMARY:Fotografien von Christoph Schräder -  - 6 Juli 24 00:00
DESCRIPTION:Christoph Schräder ist Landwirt aus Dannigkow und Hobbyfotogra
 f. Wer ihm begegnet\, hat das Gefühl\, er ist die Ruhe in Person. Das Gle
 iche strahlen auch seine Bilder aus. Selbst das kleinste Detail ist ihm in
  seinen Fotografien wichtig. Mit Vorliebe fotografiert er Motive in der La
 ndschaft\, ob es die reifen Ähren auf den Feldern sind\, oder die Schiene
 n und Windräder in der Landschaft\, stumme Zeugen der Moderne. Er macht a
 uch detaillierte Nahaufnahmen alter Gebäude aus ungewohnten Blickwinkeln.
  Wenn er fotografiert\, kann er vom stressigen Alltag abschalten und zur R
 uhe finden.\nEr hat schon als Schüler zu Fotografieren begonnen\, mit ein
 er alten Kamera seines Vaters. Dann hatten erst einmal das Studium und sei
 n landwirtschaftlicher Betrieb Vorrang. Doch dann holte ihn die Leidenscha
 ft der Fotografie wieder ein und seit etwa 4 Jahren fotografiert er wieder
  mehr. Dabei ist jetzt immer seine neue Leica M10 eine digitale Kamera. Di
 ese hatte er bewusst gewählt\, weil er so auch seine alten Objektive\, di
 e er bei den Vorgängerkameras angeschafft hatte\, noch nutzen kann.\n\n
CATEGORIES:Ausstellung
END:VEVENT
BEGIN:VTIMEZONE
TZID:Europe/Berlin
X-LIC-LOCATION:Europe/Berlin
BEGIN:DAYLIGHT
DTSTART:20240331T030000
TZOFFSETFROM:+0100
TZOFFSETTO:+0200
TZNAME:CEST
END:DAYLIGHT
END:VTIMEZONE
END:VCALENDAR