BEGIN:VCALENDAR
VERSION:2.0
PRODID:-//wp-events-plugin.com//7.2.2.1//EN
TZID:Europe/Berlin
X-WR-TIMEZONE:Europe/Berlin
BEGIN:VEVENT
UID:61@kulturwerkstatt-gommern.de
DTSTART;TZID=Europe/Berlin;VALUE=DATE:20231027
DTEND;TZID=Europe/Berlin;VALUE=DATE:20240110
DTSTAMP:20231214T083724Z
URL:https://www.kulturwerkstatt-gommern.de/events/gemeinsame-ausstellung-m
 it-kulturschaffenden-aus-frankreich/
SUMMARY:Neue Ausstellung in der "Kleinen Galerie" unter dem Motto: „Querb
 eet“ -  - 27 Okt. 23 00:00
DESCRIPTION:Bis zum 09.01.2024 können die Arbeiten der Kulturschaffenden d
 er Kulturwerkstatt Gommern in der kleinen Galerie besichtigt werden. Zu se
 hen sind Landschaftsmalereien\, Tiermotive\, Blumen\, abstrakte Malerei so
 wie Exponate von den Textilkünstlern.\n\nIn diesem Jahr gab es zudem im R
 ahmen der Ausstellung der Kulturschaffenden aus Gommern vom 27.10.2023 bis
  29.10.2023 noch eine Ausstellung von Künstlern aus der französischen Pa
 rtnerstadt Saint Jean de la Ruelle. Einige Künstler aus Frankreich waren 
 eigens dazu angereist\, um ihre Werke zu zeigen und wohnten während diese
 r Zeit bei Gastfamilien.\n\nDamit wurde eine Tradition fortgesetzt\, die s
 eit 27 Jahren zwischen der Stadt Gommern und der Stadt Saint Jean de la Ru
 elle besteht. Seit dieser Zeit präsentieren die Künstler immer im Wechse
 l ihre Werke in der jeweiligen Partnerstadt. Im letzten Jahr waren die Kul
 turschaffenden aus Gommern in der französischen Partnerstadt und konnten 
 dort ihre Werke einem interessierten Publikum zeigen.\n\n
CATEGORIES:Ausstellung
END:VEVENT
BEGIN:VTIMEZONE
TZID:Europe/Berlin
X-LIC-LOCATION:Europe/Berlin
BEGIN:DAYLIGHT
DTSTART:20230326T030000
TZOFFSETFROM:+0100
TZOFFSETTO:+0200
TZNAME:CEST
END:DAYLIGHT
BEGIN:STANDARD
DTSTART:20231029T020000
TZOFFSETFROM:+0200
TZOFFSETTO:+0100
TZNAME:CET
END:STANDARD
END:VTIMEZONE
END:VCALENDAR