BEGIN:VCALENDAR
VERSION:2.0
PRODID:-//wp-events-plugin.com//7.2.2.1//EN
TZID:Europe/Berlin
X-WR-TIMEZONE:Europe/Berlin
BEGIN:VEVENT
UID:6@kulturwerkstatt-gommern.de
DTSTART;TZID=Europe/Berlin;VALUE=DATE:20120609
DTEND;TZID=Europe/Berlin;VALUE=DATE:20120810
DTSTAMP:20120607T184606Z
URL:https://www.kulturwerkstatt-gommern.de/events/himmel-und-erde/
SUMMARY:Himmel und Erde -  - 9 Juni 12 00:00
DESCRIPTION:Herr Detlef Jeps - Keramik\n\nHerr Frank Sparfeldt - Malerei
CATEGORIES:Ausstellung
LOCATION:\, \, 
GEO:52.071201;11.832000
X-APPLE-STRUCTURED-LOCATION;VALUE=URI;X-ADDRESS=\, ;X-APPLE-RADIUS=100;X-TI
 TLE=:geo:52.071201,11.832000
END:VEVENT
BEGIN:VTIMEZONE
TZID:Europe/Berlin
X-LIC-LOCATION:Europe/Berlin
BEGIN:DAYLIGHT
DTSTART:20120325T030000
TZOFFSETFROM:+0100
TZOFFSETTO:+0200
TZNAME:CEST
END:DAYLIGHT
END:VTIMEZONE
END:VCALENDAR