BEGIN:VCALENDAR
VERSION:2.0
PRODID:-//wp-events-plugin.com//7.2.2.1//EN
TZID:Europe/Berlin
X-WR-TIMEZONE:Europe/Berlin
BEGIN:VEVENT
UID:8@kulturwerkstatt-gommern.de
DTSTART;TZID=Europe/Berlin;VALUE=DATE:20121027
DTEND;TZID=Europe/Berlin;VALUE=DATE:20130107
DTSTAMP:20121025T151055Z
URL:https://www.kulturwerkstatt-gommern.de/events/in-vorbereitung/
SUMMARY:MIT STIFT\, FARBE UND TON -  - 27 Okt. 12 00:00
DESCRIPTION:Peter Pamperin - Malerei\, Keramik und Graphiken
CATEGORIES:Ausstellung
END:VEVENT
BEGIN:VTIMEZONE
TZID:Europe/Berlin
X-LIC-LOCATION:Europe/Berlin
BEGIN:DAYLIGHT
DTSTART:20120325T030000
TZOFFSETFROM:+0100
TZOFFSETTO:+0200
TZNAME:CEST
END:DAYLIGHT
BEGIN:STANDARD
DTSTART:20121028T020000
TZOFFSETFROM:+0200
TZOFFSETTO:+0100
TZNAME:CET
END:STANDARD
END:VTIMEZONE
END:VCALENDAR