BEGIN:VCALENDAR
VERSION:2.0
PRODID:-//wp-events-plugin.com//7.2.2.1//EN
TZID:Europe/Berlin
X-WR-TIMEZONE:Europe/Berlin
BEGIN:VEVENT
UID:68@kulturwerkstatt-gommern.de
DTSTART;TZID=Europe/Berlin:20250524T000000
DTEND;TZID=Europe/Berlin:20250810T000000
DTSTAMP:20250214T073442Z
URL:https://www.kulturwerkstatt-gommern.de/events/klaus-fezer/
SUMMARY:Klaus Fezer -  - 24 Mai 25 00:00
DESCRIPTION:
END:VEVENT
BEGIN:VTIMEZONE
TZID:Europe/Berlin
X-LIC-LOCATION:Europe/Berlin
BEGIN:DAYLIGHT
DTSTART:20250330T030000
TZOFFSETFROM:+0100
TZOFFSETTO:+0200
TZNAME:CEST
END:DAYLIGHT
END:VTIMEZONE
END:VCALENDAR