BEGIN:VCALENDAR
VERSION:2.0
PRODID:-//wp-events-plugin.com//7.2.2.1//EN
TZID:Europe/Berlin
X-WR-TIMEZONE:Europe/Berlin
BEGIN:VEVENT
UID:72@kulturwerkstatt-gommern.de
DTSTART;TZID=Europe/Berlin:20250118T000000
DTEND;TZID=Europe/Berlin:20250517T000000
DTSTAMP:20250409T185735Z
URL:https://www.kulturwerkstatt-gommern.de/events/kunst-verbindet-%e2%88%9
 2das-motto-hatten-tatjana-hewelt-und-jens-weber-fuer-ihre-ausstellung-gewa
 ehlt/
SUMMARY:„Kunst verbindet“ −das Motto hatten Tatjana Hewelt und Jens W
 eber für ihre Ausstellung gewählt. -  - 18 Jan. 25 00:00
DESCRIPTION:Vernissage am 18.01.2025\nin der kleinen Galerie „Art - Love
 “ von Tatjana Hewelt und Jens Weber\nPatchwork von Tatjana Hewelt:\nDer 
 Fantasie sind keine Grenzen gesetzt. Ob bunte\, geometrische Formen oder d
 ekorative Verzierungen: Patchwork erlaubt eine große Bandbreite an Gestal
 tungsmöglichkeiten in ihrer magischen Welt.\nAquarelle von Jens Weber:\nE
 s gibt kein Richtig oder Falsch im Umgang mit Aquarellfarben. Die schönst
 en Aquarelle entstehen oft durch spontan improvisierte Farbaufträge. Das 
 eröffnet dem Künstler ein ungeheures Potential.\n\nAuf der einen Seite T
 atjanas kreative Patchworkarbeiten\, die durch farbenfrohe geometrische Fo
 rmen und dekorative Verzierungen begeistern. Mit ihren Arbeiten gibt sie E
 inblicke in magische Welten.\nAuf der anderen Seite die Aquarelle und Ölb
 ilder von Jens\, die erkennen lassen\, dass hier ein Künstler am Werk ist
 \, der die Malkunst beherrscht\, der seine Bilder so plastisch zeichnet\, 
 als wären sie Realität und keine Bilder. Sie spiegeln nicht nur technisc
 hes Können wider\, sondern auch die Freude am Experimentieren.\n\nLassen 
 Sie sich inspirieren von der Vielfalt der Ideen!\n\n  
CATEGORIES:Ausstellung
END:VEVENT
BEGIN:VTIMEZONE
TZID:Europe/Berlin
X-LIC-LOCATION:Europe/Berlin
BEGIN:STANDARD
DTSTART:20241027T020000
TZOFFSETFROM:+0200
TZOFFSETTO:+0100
TZNAME:CET
END:STANDARD
BEGIN:DAYLIGHT
DTSTART:20250330T030000
TZOFFSETFROM:+0100
TZOFFSETTO:+0200
TZNAME:CEST
END:DAYLIGHT
END:VTIMEZONE
END:VCALENDAR