BEGIN:VCALENDAR
VERSION:2.0
PRODID:-//wp-events-plugin.com//7.2.2.1//EN
TZID:Europe/Berlin
X-WR-TIMEZONE:Europe/Berlin
BEGIN:VEVENT
UID:29@kulturwerkstatt-gommern.de
DTSTART;TZID=Europe/Berlin:20140412T140000
DTEND;TZID=Europe/Berlin:20140613T160000
DTSTAMP:20140407T112823Z
URL:https://www.kulturwerkstatt-gommern.de/events/moderne-vielfalt/
SUMMARY:Moderne Vielfalt - "Kleine Galerie" der KULTURWERKSTATT Gommern e.V
 . - 12 Apr. 14 14:00
DESCRIPTION:Ich möchte Sie ganz herzlich zu meiner Ausstellung in die "Kle
 ine Galerie" der Kulturwerkstatt einladen.\nDie Vernissage findet am Samst
 ag\, den 12. 04. 2014 um 14 Uhr statt.\nEs erwartet Sie eine breite Vielfa
 lt von Bildern in unterschiedlichen Techniken (Collagen\, Grafik und Maler
 ei) und\neine musikalische Umrahmung von Anna-Lehna Schneemann\, einer Sch
 ülerin der Kreismusikschule Schönebeck.\n\nIch freu mich auf Ihren Besu
 ch und anregende Gespräche.\n\nFalls Sie bei der Eröffnung nicht teilneh
 men können\, besteht die Möglichkeit meine Bilder bis zum 13. 06. 2014 a
 nzusehen.\n\nIhre Edith Danner
ATTACH;FMTTYPE=image/jpeg:https://www.kulturwerkstatt-gommern.de/wp-conten
 t/uploads/2014/04/Plakat-1.jpg
CATEGORIES:Ausstellung
LOCATION:"Kleine Galerie" der KULTURWERKSTATT Gommern e.V.\, Walther-Rathen
 au-Str. 19\, Gommern\, Sachsen-Anhalt\, 39245\, Deutschland
GEO:52.0711713;11.832034600000043
X-APPLE-STRUCTURED-LOCATION;VALUE=URI;X-ADDRESS=Walther-Rathenau-Str. 19\, 
 Gommern\, Sachsen-Anhalt\, 39245\, Deutschland;X-APPLE-RADIUS=100;X-TITLE=
 \"Kleine Galerie\" der KULTURWERKSTATT Gommern e.V.:geo:52.0711713,11.8320
 34600000043
END:VEVENT
BEGIN:VTIMEZONE
TZID:Europe/Berlin
X-LIC-LOCATION:Europe/Berlin
BEGIN:DAYLIGHT
DTSTART:20140330T030000
TZOFFSETFROM:+0100
TZOFFSETTO:+0200
TZNAME:CEST
END:DAYLIGHT
END:VTIMEZONE
END:VCALENDAR