BEGIN:VCALENDAR
VERSION:2.0
PRODID:-//wp-events-plugin.com//7.2.2.1//EN
TZID:Europe/Berlin
X-WR-TIMEZONE:Europe/Berlin
BEGIN:VEVENT
UID:57@kulturwerkstatt-gommern.de
DTSTART;TZID=Europe/Berlin:20230204T000000
DTEND;TZID=Europe/Berlin:20230416T000000
DTSTAMP:20230203T170356Z
URL:https://www.kulturwerkstatt-gommern.de/events/naturinspirationen/
SUMMARY:Naturinspirationen -  - 4 Feb. 23 00:00
DESCRIPTION:Neue Ausstellung vom 04. Februar 2023 – 16. April 2023\, Erö
 ffnungsbeginn um 14 Uhr\n\n„Naturinspirationen“\nGemälde auf Seide un
 d Aquarell von Ute Bartels und Schmuck von Galina Bozduganova\n\n\n\n&nbsp
 \;\n\nVor 30 Jahren besuchte Ute Bartels einen Kurs in Seidenmalerei. Seit
 dem hat sie diese Technik nicht mehr losgelassen. Ihr Vater\, der als Hobb
 y-Ornithologe mit der Tierwelt eng verbunden war\, inspirierte sie dazu\, 
 Tiermotiven zu malen. Dabei stellte sie fest\, dass diese Motive für sie 
 genau die richtigen sind.\nIn der Tat\, wer ihre Werke sieht\, ist faszini
 ert über die detailgetreue Darstellung der Tiere. Auf den ersten Blick me
 int man Fotografien von einem Fotografen zu sehen\, der sein Handwerk vers
 teht. Doch beim näheren Hinschauen ist der Betrachter erstaunt\, dass es 
 sich bei den vermeidlichen Fotografien um Seidenmalerei und Aquarellmalere
 i handelt. Jedes Haar\, jede noch so kleine Hautfalte\, jede Mimik zeigen\
 , hier war eine Künstlerin am Werk\, die nicht nur ihr Handwerk versteht\
 , sondern auch eine gute Beobachtungsgabe hat\, inspiriert durch die Natur
 .\nUte Bartels ist seit 2006 freischaffende Künstlerin. Ihre Werke hat si
 e mehrfach in Naturkundemuseen der USA und in Deutschland ausgestellt. Sie
  hat schon viele Preise bekommen\, so u. a. 2020 den Publikumspreis „Art
  und Vielfalt – Impressionen aus der Tier- und Pflanzenwelt“ vom Natur
 kundemuseum Magdeburg.\nIm kleinen Ausstellungsraum sind die Schmuckstück
 e von Galina Bozduganova zu sehen. Sie versteht es aus poliertem Messing\,
  Kautschuk und anderen Materialien\, kombiniert mit Jade\, Bernstein und K
 nochenperlen wunderschöne Schmuckstücke zu zaubern.
CATEGORIES:Ausstellung
END:VEVENT
BEGIN:VTIMEZONE
TZID:Europe/Berlin
X-LIC-LOCATION:Europe/Berlin
BEGIN:STANDARD
DTSTART:20221030T020000
TZOFFSETFROM:+0200
TZOFFSETTO:+0100
TZNAME:CET
END:STANDARD
BEGIN:DAYLIGHT
DTSTART:20230326T030000
TZOFFSETFROM:+0100
TZOFFSETTO:+0200
TZNAME:CEST
END:DAYLIGHT
END:VTIMEZONE
END:VCALENDAR