BEGIN:VCALENDAR
VERSION:2.0
PRODID:-//wp-events-plugin.com//7.2.2.1//EN
TZID:Europe/Berlin
X-WR-TIMEZONE:Europe/Berlin
BEGIN:VEVENT
UID:70@kulturwerkstatt-gommern.de
DTSTART;TZID=Europe/Berlin:20251101T000000
DTEND;TZID=Europe/Berlin:20260125T000000
DTSTAMP:20251103T090231Z
URL:https://www.kulturwerkstatt-gommern.de/events/querbeet-mitglieder-der-
 kulturwerkstatt/
SUMMARY:Querbeet- Mitglieder der Kulturwerkstatt -  - 1 Nov. 25 00:00
DESCRIPTION:Die Ausstellung der Kunstschaffenden der Kulturwerkstatt e.V. G
 ommern findet nun schon seit einigen Jahren statt und ist für alle immer 
 wieder ein Höhepunkt.\nHier präsentieren alle Mitglieder einmal im Jahr 
 ihre „Schöpfungen“ der Öffentlichkeit. Dabei gibt es auch die Mögli
 chkeit\, das eine oder andere Kunstwerk zu erwerben.\nAuch in diesem Jahr 
 war die Vernissage wieder ein großer Erfolg. Gäste und Kulturschaffende 
 waren von der Ausstellung begeistert. Die Präsentation war wieder einmal 
 gelungen. So vielfältig wie das Leben ist\, so vielfältig sind auch die 
 kreativen Ideen\, die in der Ausstellung zum Tragen kommen.\nJeder Interes
 sierte ist herzlich willkommen und kann in der Kreativwerkstatt mitmachen\
 , ob Malerei\, Schmuckgestaltung\, Keramik\, Sticken\, Stricken\, Häkeln 
 oder Klöppeln\, für jeden ist etwas dabei. Neue kreative Ideen sind eben
 falls willkommen.\nWer glaubt\, dafür kein Talent zu haben\, der irrt. Je
 der ist auf seine Weise kreativ und auch begabt. Einfach einmal in eine de
 r Gruppen „reinschnuppern“. Anregungen für kreatives Gestalten gibt e
 s hier genug.\n\n \n\n 
CATEGORIES:Ausstellung
END:VEVENT
BEGIN:VTIMEZONE
TZID:Europe/Berlin
X-LIC-LOCATION:Europe/Berlin
BEGIN:STANDARD
DTSTART:20251026T020000
TZOFFSETFROM:+0200
TZOFFSETTO:+0100
TZNAME:CET
END:STANDARD
END:VTIMEZONE
END:VCALENDAR