BEGIN:VCALENDAR
VERSION:2.0
PRODID:-//wp-events-plugin.com//7.2.2.1//EN
TZID:Europe/Berlin
X-WR-TIMEZONE:Europe/Berlin
BEGIN:VEVENT
UID:33@kulturwerkstatt-gommern.de
DTSTART;TZID=Europe/Berlin;VALUE=DATE:20141115
DTEND;TZID=Europe/Berlin;VALUE=DATE:20150110
DTSTAMP:20140705T170514Z
URL:https://www.kulturwerkstatt-gommern.de/events/querbeet/
SUMMARY:Querbeet - "Kleine Galerie" der KULTURWERKSTATT Gommern e.V. - 15 N
 ov. 14 14:00
DESCRIPTION:Ausstellung von  Arbeiten der Mitglieder der Kulturwerkstatt
CATEGORIES:Ausstellung
LOCATION:"Kleine Galerie" der KULTURWERKSTATT Gommern e.V.\, Walther-Rathen
 au-Str. 19\, Gommern\, Sachsen-Anhalt\, 39245\, Deutschland
GEO:52.0711713;11.832034600000043
X-APPLE-STRUCTURED-LOCATION;VALUE=URI;X-ADDRESS=Walther-Rathenau-Str. 19\, 
 Gommern\, Sachsen-Anhalt\, 39245\, Deutschland;X-APPLE-RADIUS=100;X-TITLE=
 \"Kleine Galerie\" der KULTURWERKSTATT Gommern e.V.:geo:52.0711713,11.8320
 34600000043
END:VEVENT
BEGIN:VTIMEZONE
TZID:Europe/Berlin
X-LIC-LOCATION:Europe/Berlin
BEGIN:STANDARD
DTSTART:20141026T020000
TZOFFSETFROM:+0200
TZOFFSETTO:+0100
TZNAME:CET
END:STANDARD
END:VTIMEZONE
END:VCALENDAR