BEGIN:VCALENDAR
VERSION:2.0
PRODID:-//wp-events-plugin.com//7.2.2.1//EN
TZID:Europe/Berlin
X-WR-TIMEZONE:Europe/Berlin
BEGIN:VEVENT
UID:71@kulturwerkstatt-gommern.de
DTSTART;TZID=Europe/Berlin:20260131T000000
DTEND;TZID=Europe/Berlin:20260426T000000
DTSTAMP:20260205T072302Z
URL:https://www.kulturwerkstatt-gommern.de/events/silvia-korb/
SUMMARY:Alte Kunst in neuem Design - Klöppelarbeiten von Silvia Korb -  - 
 31 Jan. 26 00:00
DESCRIPTION:Wie im letzten Jahr gibt es auch in diesem Jahr wieder eine Ein
 zelausstellung einer Künstlerin\, die Mitglied der Kulturwerkstatt ist. D
 amit sollen Künstlerinnen aus der Kulturwerkstatt die Möglichkeit erhalt
 en\, ihre Arbeiten einem breiten Publikum zu präsentieren.\nSilvia Korb k
 löppelt seit den 1960er Jahren\, pausierte einige Jahre und kam 2015 durc
 h glückliche Umstände zur Klöppelgruppe nach Gommern.\nUnter Klöppeln 
 stellen sich viele etwas Überholtes und Verstaubtes vor. Silvia Korb bewe
 ist mit ihrer Ausstellung\, dass es nicht so ist. Vom Schmuck über Wandbi
 lder und Gardinen bis zu Westen und Blumen hat sie einmalige Kunstwerke ge
 schaffen. Bei einigen Stücken erkennt man erst beim näheren Hinsehen\, d
 ass es sich um eine Klöppelarbeit handelt\, denn geklöppelt wird nicht n
 ur mit Seidenfäden. Zum Klöppeln gibt es heute unzählige Materialien.\n
 Dass diese Ausstellung gelungen ist und bei den Besuchern sehr gut ankommt
 \, ist auch Marion John als Ausstellungsleiterin\, Brunhilde Schmehl als V
 orsitzende der Kulturwerkstatt und Johanna Stawitz als Stellvertreterin zu
  verdanken. Sie waren für die Gestaltung der Ausstellungsräume verantwor
 tlich\n\n  \n
CATEGORIES:Ausstellung
END:VEVENT
BEGIN:VTIMEZONE
TZID:Europe/Berlin
X-LIC-LOCATION:Europe/Berlin
BEGIN:STANDARD
DTSTART:20251026T020000
TZOFFSETFROM:+0200
TZOFFSETTO:+0100
TZNAME:CET
END:STANDARD
BEGIN:DAYLIGHT
DTSTART:20260329T030000
TZOFFSETFROM:+0100
TZOFFSETTO:+0200
TZNAME:CEST
END:DAYLIGHT
END:VTIMEZONE
END:VCALENDAR