BEGIN:VCALENDAR
VERSION:2.0
PRODID:-//wp-events-plugin.com//7.2.2.1//EN
TZID:Europe/Berlin
X-WR-TIMEZONE:Europe/Berlin
BEGIN:VEVENT
UID:62@kulturwerkstatt-gommern.de
DTSTART;TZID=Europe/Berlin:20231125T163000
DTEND;TZID=Europe/Berlin:20231125T180000
DTSTAMP:20231115T205002Z
URL:https://www.kulturwerkstatt-gommern.de/events/swing-blues-gospel-mit-f
 rank-stawitz-ein-mann-band/
SUMMARY:Swing\, Blues & Gospel mit der Ein-Mann-Band "VERROCKT UND ZUGEHÖR
 T" -  - 25 Nov. 23 16:30
DESCRIPTION:Die Ein-Mann-Band „VERROCKT UND ZUGEHÖRT“ präsentiert am 
 25.11.2023 um 16:30 Uhr in der Kulturwerkstatt Gommern / Walter-Rathenau-S
 tr. 19 ein musikalisches Programm.\n\nFreuen Sie sich auf ein umfangreiche
 s Repertoire aus den Bereichen Blues\, Swing und Gospel. Lassen Sie sich m
 itreißen von seinen Liedern und freuen Sie sich auch auf die Eigenkomposi
 tionen von Frank Stawitz.
CATEGORIES:Ausstellung
END:VEVENT
BEGIN:VTIMEZONE
TZID:Europe/Berlin
X-LIC-LOCATION:Europe/Berlin
BEGIN:STANDARD
DTSTART:20231029T020000
TZOFFSETFROM:+0200
TZOFFSETTO:+0100
TZNAME:CET
END:STANDARD
END:VTIMEZONE
END:VCALENDAR