BEGIN:VCALENDAR
VERSION:2.0
PRODID:-//wp-events-plugin.com//7.2.2.1//EN
TZID:Europe/Berlin
X-WR-TIMEZONE:Europe/Berlin
BEGIN:VEVENT
UID:13@kulturwerkstatt-gommern.de
DTSTART;TZID=Europe/Berlin:20120818T140000
DTEND;TZID=Europe/Berlin:20120818T180000
DTSTAMP:20120810T063932Z
URL:https://www.kulturwerkstatt-gommern.de/events/vernissage-kanten-und-fo
 rmen/
SUMMARY:Vernissage - KANTEN UND FORMEN -  - 18 Aug. 12 14:00
DESCRIPTION:Herr Dieter Lange (Leipzig) Fotografie\n\nFrau Heidemarie Wald-
 Fichtner (Leipzig)  Keramik
CATEGORIES:Vernissage
LOCATION:\, \, 
GEO:52.071201;11.832000
X-APPLE-STRUCTURED-LOCATION;VALUE=URI;X-ADDRESS=\, ;X-APPLE-RADIUS=100;X-TI
 TLE=:geo:52.071201,11.832000
END:VEVENT
BEGIN:VTIMEZONE
TZID:Europe/Berlin
X-LIC-LOCATION:Europe/Berlin
BEGIN:DAYLIGHT
DTSTART:20120325T030000
TZOFFSETFROM:+0100
TZOFFSETTO:+0200
TZNAME:CEST
END:DAYLIGHT
END:VTIMEZONE
END:VCALENDAR